BEGIN:VCALENDAR
VERSION:2.0
PRODID:-//Faber Hulpverlening - ECPv6.11.2.1//NONSGML v1.0//EN
CALSCALE:GREGORIAN
METHOD:PUBLISH
X-WR-CALNAME:Faber Hulpverlening
X-ORIGINAL-URL:https://faberhulpverlening.nl
X-WR-CALDESC:Evenementen voor Faber Hulpverlening
REFRESH-INTERVAL;VALUE=DURATION:PT1H
X-Robots-Tag:noindex
X-PUBLISHED-TTL:PT1H
BEGIN:VTIMEZONE
TZID:UTC
BEGIN:STANDARD
TZOFFSETFROM:+0000
TZOFFSETTO:+0000
TZNAME:UTC
DTSTART:20260101T000000
END:STANDARD
END:VTIMEZONE
BEGIN:VEVENT
DTSTART;TZID=UTC:20260424T080000
DTEND;TZID=UTC:20260427T233000
DTSTAMP:20260423T130555
CREATED:20260312T185954Z
LAST-MODIFIED:20260312T185954Z
UID:10000091-1777017600-1777332600@faberhulpverlening.nl
SUMMARY:Koningsweekend en Koningsdag Dokkum
DESCRIPTION:
URL:https://faberhulpverlening.nl/event/koningsweekend-en-koningsdag-dokkum/
LOCATION:Dokkum
ORGANIZER;CN="Faber Hulpverlening":MAILTO:info@faberhulpverlening.nl
END:VEVENT
BEGIN:VEVENT
DTSTART;TZID=UTC:20260425T080000
DTEND;TZID=UTC:20260427T233000
DTSTAMP:20260423T130555
CREATED:20260312T185420Z
LAST-MODIFIED:20260312T185420Z
UID:10000090-1777104000-1777332600@faberhulpverlening.nl
SUMMARY:Koningsweekend en Koningsdag Leeuwarden
DESCRIPTION:
URL:https://faberhulpverlening.nl/event/koningsweekend-en-koningsdag-leeuwarden/
LOCATION:Leeuwarden
ORGANIZER;CN="Faber Hulpverlening":MAILTO:info@faberhulpverlening.nl
END:VEVENT
BEGIN:VEVENT
DTSTART;TZID=UTC:20260501T190000
DTEND;TZID=UTC:20260502T003000
DTSTAMP:20260423T130555
CREATED:20260319T135732Z
LAST-MODIFIED:20260319T135732Z
UID:10000101-1777662000-1777681800@faberhulpverlening.nl
SUMMARY:100 Jarig jubileum SC Franeker
DESCRIPTION:
URL:https://faberhulpverlening.nl/event/100-jarig-jubileum-sc-franeker/
LOCATION:Franeker
ORGANIZER;CN="Faber Hulpverlening":MAILTO:info@faberhulpverlening.nl
END:VEVENT
BEGIN:VEVENT
DTSTART;TZID=UTC:20260502T130000
DTEND;TZID=UTC:20260503T003000
DTSTAMP:20260423T130555
CREATED:20260319T135907Z
LAST-MODIFIED:20260319T135907Z
UID:10000102-1777726800-1777768200@faberhulpverlening.nl
SUMMARY:100 jarig jubileum SC Franeker
DESCRIPTION:
URL:https://faberhulpverlening.nl/event/100-jarig-jubileum-sc-franeker-2/
LOCATION:Franeker
ORGANIZER;CN="Faber Hulpverlening":MAILTO:info@faberhulpverlening.nl
END:VEVENT
BEGIN:VEVENT
DTSTART;TZID=UTC:20260503T100000
DTEND;TZID=UTC:20260503T160000
DTSTAMP:20260423T130555
CREATED:20260312T190335Z
LAST-MODIFIED:20260312T190335Z
UID:10000093-1777802400-1777824000@faberhulpverlening.nl
SUMMARY:Jaarmarkt Gorredijk
DESCRIPTION:
URL:https://faberhulpverlening.nl/event/jaarmarkt-gorredijk/
LOCATION:Gorredijk
ORGANIZER;CN="Faber Hulpverlening":MAILTO:info@faberhulpverlening.nl
END:VEVENT
BEGIN:VEVENT
DTSTART;TZID=UTC:20260505T080000
DTEND;TZID=UTC:20260505T235900
DTSTAMP:20260423T130555
CREATED:20260312T190648Z
LAST-MODIFIED:20260312T190812Z
UID:10000094-1777968000-1778025540@faberhulpverlening.nl
SUMMARY:Bevrijdingsfestival Leeuwarden
DESCRIPTION:
URL:https://faberhulpverlening.nl/event/bevrijdingsfestival-leeuwarden/
LOCATION:Leeuwarden
ORGANIZER;CN="Faber Hulpverlening":MAILTO:info@faberhulpverlening.nl
END:VEVENT
BEGIN:VEVENT
DTSTART;TZID=UTC:20260510T080000
DTEND;TZID=UTC:20260510T160000
DTSTAMP:20260423T130555
CREATED:20260416T190002Z
LAST-MODIFIED:20260416T190002Z
UID:10000103-1778400000-1778428800@faberhulpverlening.nl
SUMMARY:Loop Leeuwarden
DESCRIPTION:
URL:https://faberhulpverlening.nl/event/loop-leeuwarden-2/
LOCATION:Leeuwarden
ORGANIZER;CN="Faber Hulpverlening":MAILTO:info@faberhulpverlening.nl
END:VEVENT
BEGIN:VEVENT
DTSTART;TZID=UTC:20260514T090000
DTEND;TZID=UTC:20260514T140000
DTSTAMP:20260423T130555
CREATED:20260312T191305Z
LAST-MODIFIED:20260312T191305Z
UID:10000096-1778749200-1778767200@faberhulpverlening.nl
SUMMARY:Jeugd toernooi SC Stiens
DESCRIPTION:
URL:https://faberhulpverlening.nl/event/jeugd-toernooi-sc-stiens/
LOCATION:Stiens
ORGANIZER;CN="Faber Hulpverlening":MAILTO:info@faberhulpverlening.nl
END:VEVENT
BEGIN:VEVENT
DTSTART;TZID=UTC:20260514T090000
DTEND;TZID=UTC:20260514T170000
DTSTAMP:20260423T130555
CREATED:20260312T191153Z
LAST-MODIFIED:20260312T191153Z
UID:10000095-1778749200-1778778000@faberhulpverlening.nl
SUMMARY:Bloemetjesmarkt
DESCRIPTION:
URL:https://faberhulpverlening.nl/event/bloemetjesmarkt/
LOCATION:Leeuwarden
ORGANIZER;CN="Faber Hulpverlening":MAILTO:info@faberhulpverlening.nl
END:VEVENT
BEGIN:VEVENT
DTSTART;TZID=UTC:20260603T143000
DTEND;TZID=UTC:20260603T203000
DTSTAMP:20260423T130555
CREATED:20260312T183502Z
LAST-MODIFIED:20260312T183502Z
UID:10000089-1780497000-1780518600@faberhulpverlening.nl
SUMMARY:Studenten kampioenschap Veldvoetbal
DESCRIPTION:
URL:https://faberhulpverlening.nl/event/studenten-kampioenschap-veldvoetbal/
LOCATION:Leeuwarden
ORGANIZER;CN="Faber Hulpverlening":MAILTO:info@faberhulpverlening.nl
END:VEVENT
BEGIN:VEVENT
DTSTART;TZID=UTC:20260613T100000
DTEND;TZID=UTC:20260613T170000
DTSTAMP:20260423T130555
CREATED:20260312T191526Z
LAST-MODIFIED:20260312T191526Z
UID:10000097-1781344800-1781370000@faberhulpverlening.nl
SUMMARY:Cruydt Hoeck opendag
DESCRIPTION:
URL:https://faberhulpverlening.nl/event/cruydt-hoeck-opendag/
LOCATION:NIjeberkoop
ORGANIZER;CN="Faber Hulpverlening":MAILTO:info@faberhulpverlening.nl
END:VEVENT
BEGIN:VEVENT
DTSTART;TZID=UTC:20260620T220000
DTEND;TZID=UTC:20260621T030000
DTSTAMP:20260423T130555
CREATED:20260312T191628Z
LAST-MODIFIED:20260312T191628Z
UID:10000098-1781992800-1782010800@faberhulpverlening.nl
SUMMARY:Dorpsfeest Marrum
DESCRIPTION:
URL:https://faberhulpverlening.nl/event/dorpsfeest-marrum/
LOCATION:Marrum
ORGANIZER;CN="Faber Hulpverlening":MAILTO:info@faberhulpverlening.nl
END:VEVENT
BEGIN:VEVENT
DTSTART;TZID=UTC:20260626T100000
DTEND;TZID=UTC:20260626T140000
DTSTAMP:20260423T130555
CREATED:20260312T191754Z
LAST-MODIFIED:20260312T191819Z
UID:10000099-1782468000-1782482400@faberhulpverlening.nl
SUMMARY:Leerlingen Festival Appingedam
DESCRIPTION:
URL:https://faberhulpverlening.nl/event/leeringen-festival-appingedam/
LOCATION:Appingedam
ORGANIZER;CN="Faber Hulpverlening":MAILTO:info@faberhulpverlening.nl
END:VEVENT
BEGIN:VEVENT
DTSTART;TZID=UTC:20260628T100000
DTEND;TZID=UTC:20260628T170000
DTSTAMP:20260423T130555
CREATED:20260312T192337Z
LAST-MODIFIED:20260312T192337Z
UID:10000100-1782640800-1782666000@faberhulpverlening.nl
SUMMARY:Straatkaatsen Stiens
DESCRIPTION:
URL:https://faberhulpverlening.nl/event/straatkaatsen-stiens-2/
LOCATION:Stiens
ORGANIZER;CN="Faber Hulpverlening":MAILTO:info@faberhulpverlening.nl
END:VEVENT
END:VCALENDAR